BEGIN:VCALENDAR
VERSION:2.0
PRODID:-//Advanced Intellect//aspNetEmail Calendar Writer(v4.0.0.57)//EN
METHOD:POST
BEGIN:VTIMEZONE
LAST-MODIFIED:20260422T182459Z
TZID:Central Standard Time
BEGIN:STANDARD
DTSTART:16010101T030000
TZOFFSETFROM:-0500
TZOFFSETTO:-0600
TZNAME:CST
RRULE:FREQ=YEARLY;BYMONTH=11;BYDAY=1SU
END:STANDARD
BEGIN:DAYLIGHT
DTSTART:16010101T020000
TZOFFSETFROM:-0600
TZOFFSETTO:-0500
TZNAME:CDT
RRULE:FREQ=YEARLY;BYMONTH=3;BYDAY=2SU
END:DAYLIGHT
END:VTIMEZONE
BEGIN:VEVENT
DTSTART;TZID="Central Standard Time":20270407T180000
DTEND;TZID="Central Standard Time":20270407T193000
UID:0afac6c8-6f4c-415e-a165-79cff3c6f262
CREATED:20260422T232459Z
DTSTAMP:20260422T232459Z
LAST-MODIFIED:20260422T232459Z
DESCRIPTION:Women's 55+ Community Group 
CLASS:PUBLIC
LOCATION:
PRIORITY:5
SUMMARY:Eat\, Pray\, Love 
TRANSP:OPAQUE
SEQUENCE:0
ORGANIZER;CN="Tammy Dickey":MAILTO:tammy@springcreekchurch.org
STATUS:NEEDS ACTION
BEGIN:VALARM
DESCRIPTION:Eat\, Pray\, Love 
ACTION:DISPLAY
TRIGGER:-PT30M
END:VALARM
END:VEVENT
END:VCALENDAR