BEGIN:VCALENDAR
VERSION:2.0
PRODID:-//Advanced Intellect//aspNetEmail Calendar Writer(v4.0.0.57)//EN
METHOD:POST
BEGIN:VTIMEZONE
LAST-MODIFIED:20260422T182212Z
TZID:Central Standard Time
BEGIN:STANDARD
DTSTART:16010101T030000
TZOFFSETFROM:-0500
TZOFFSETTO:-0600
TZNAME:CST
RRULE:FREQ=YEARLY;BYMONTH=11;BYDAY=1SU
END:STANDARD
BEGIN:DAYLIGHT
DTSTART:16010101T020000
TZOFFSETFROM:-0600
TZOFFSETTO:-0500
TZNAME:CDT
RRULE:FREQ=YEARLY;BYMONTH=3;BYDAY=2SU
END:DAYLIGHT
END:VTIMEZONE
BEGIN:VEVENT
DTSTART;TZID="Central Standard Time":20270323T180000
DTEND;TZID="Central Standard Time":20270323T193000
UID:3ec5994a-b021-4035-b840-4c20ebd6d58b
CREATED:20260422T232212Z
DTSTAMP:20260422T232212Z
LAST-MODIFIED:20260422T232212Z
DESCRIPTION:1st & 3d Tuesdays\, 6-7:30pm
CLASS:PUBLIC
LOCATION:
PRIORITY:5
SUMMARY:Women Doing Life Together 
TRANSP:OPAQUE
SEQUENCE:0
ORGANIZER;CN="Tammy Dickey":MAILTO:tammy@springcreekchurch.org
STATUS:NEEDS ACTION
BEGIN:VALARM
DESCRIPTION:Women Doing Life Together 
ACTION:DISPLAY
TRIGGER:-PT30M
END:VALARM
END:VEVENT
END:VCALENDAR