BEGIN:VCALENDAR
VERSION:2.0
PRODID:-//Advanced Intellect//aspNetEmail Calendar Writer(v4.0.0.57)//EN
METHOD:POST
BEGIN:VTIMEZONE
LAST-MODIFIED:20260422T180856Z
TZID:Central Standard Time
BEGIN:STANDARD
DTSTART:16010101T030000
TZOFFSETFROM:-0500
TZOFFSETTO:-0600
TZNAME:CST
RRULE:FREQ=YEARLY;BYMONTH=11;BYDAY=1SU
END:STANDARD
BEGIN:DAYLIGHT
DTSTART:16010101T020000
TZOFFSETFROM:-0600
TZOFFSETTO:-0500
TZNAME:CDT
RRULE:FREQ=YEARLY;BYMONTH=3;BYDAY=2SU
END:DAYLIGHT
END:VTIMEZONE
BEGIN:VEVENT
DTSTART;TZID="Central Standard Time":20270321T091500
DTEND;TZID="Central Standard Time":20270321T103000
UID:c6b3da82-5ad8-490e-bb09-64d658477115
CREATED:20260422T230856Z
DTSTAMP:20260422T230856Z
LAST-MODIFIED:20260422T230856Z
DESCRIPTION:Family Community Group \n1st and 3d Sundays 
CLASS:PUBLIC
LOCATION:
PRIORITY:5
SUMMARY:Family Community Group 
TRANSP:OPAQUE
SEQUENCE:0
ORGANIZER;CN="Tammy Dickey":MAILTO:tammy@springcreekchurch.org
STATUS:NEEDS ACTION
BEGIN:VALARM
DESCRIPTION:Family Community Group 
ACTION:DISPLAY
TRIGGER:-PT30M
END:VALARM
END:VEVENT
END:VCALENDAR