BEGIN:VCALENDAR
VERSION:2.0
PRODID:-//Advanced Intellect//aspNetEmail Calendar Writer(v4.0.0.57)//EN
METHOD:POST
BEGIN:VTIMEZONE
LAST-MODIFIED:20260422T180855Z
TZID:Central Standard Time
BEGIN:STANDARD
DTSTART:16010101T030000
TZOFFSETFROM:-0500
TZOFFSETTO:-0600
TZNAME:CST
RRULE:FREQ=YEARLY;BYMONTH=11;BYDAY=1SU
END:STANDARD
BEGIN:DAYLIGHT
DTSTART:16010101T020000
TZOFFSETFROM:-0600
TZOFFSETTO:-0500
TZNAME:CDT
RRULE:FREQ=YEARLY;BYMONTH=3;BYDAY=2SU
END:DAYLIGHT
END:VTIMEZONE
BEGIN:VEVENT
DTSTART;TZID="Central Standard Time":20270314T170000
DTEND;TZID="Central Standard Time":20270314T180000
UID:aac421e9-fa6e-429e-9236-721383e34d33
CREATED:20260422T230855Z
DTSTAMP:20260422T230855Z
LAST-MODIFIED:20260422T230855Z
DESCRIPTION:For those struggling with body image and weight issues
  - all shapes\, all sizes\, all ages\, and for all reasons.
CLASS:PUBLIC
LOCATION:
PRIORITY:5
SUMMARY:Your Life . . . Beyond the Scale
TRANSP:OPAQUE
SEQUENCE:0
ORGANIZER;CN="Tammy Dickey":MAILTO:tammy@springcreekchurch.org
STATUS:NEEDS ACTION
BEGIN:VALARM
DESCRIPTION:Your Life . . . Beyond the Scale
ACTION:DISPLAY
TRIGGER:-PT30M
END:VALARM
END:VEVENT
END:VCALENDAR