BEGIN:VCALENDAR
VERSION:2.0
PRODID:-//Advanced Intellect//aspNetEmail Calendar Writer(v4.0.0.57)//EN
METHOD:POST
BEGIN:VTIMEZONE
LAST-MODIFIED:20260422T180636Z
TZID:Central Standard Time
BEGIN:STANDARD
DTSTART:16010101T030000
TZOFFSETFROM:-0500
TZOFFSETTO:-0600
TZNAME:CST
RRULE:FREQ=YEARLY;BYMONTH=11;BYDAY=1SU
END:STANDARD
BEGIN:DAYLIGHT
DTSTART:16010101T020000
TZOFFSETFROM:-0600
TZOFFSETTO:-0500
TZNAME:CDT
RRULE:FREQ=YEARLY;BYMONTH=3;BYDAY=2SU
END:DAYLIGHT
END:VTIMEZONE
BEGIN:VEVENT
DTSTART;TZID="Central Standard Time":20270404T190000
DTEND;TZID="Central Standard Time":20270404T203000
UID:341bedf8-4661-4bd7-840d-624fc69c0f50
CREATED:20260422T230636Z
DTSTAMP:20260422T230636Z
LAST-MODIFIED:20260422T230636Z
DESCRIPTION:For young married couples looking to grow and encourage
  each other to love God first\, practice their promises\, and give
  love and respect.\n\n\n
CLASS:PUBLIC
LOCATION:
PRIORITY:5
SUMMARY:Young Married Couples Group 
TRANSP:OPAQUE
SEQUENCE:0
ORGANIZER;CN="Tammy Dickey":MAILTO:tammy@springcreekchurch.org
STATUS:NEEDS ACTION
BEGIN:VALARM
DESCRIPTION:Young Married Couples Group 
ACTION:DISPLAY
TRIGGER:-PT30M
END:VALARM
END:VEVENT
END:VCALENDAR