BEGIN:VCALENDAR
VERSION:2.0
PRODID:-//Advanced Intellect//aspNetEmail Calendar Writer(v4.0.0.57)//EN
METHOD:POST
BEGIN:VTIMEZONE
LAST-MODIFIED:20260421T044556Z
TZID:Central Standard Time
BEGIN:STANDARD
DTSTART:16010101T030000
TZOFFSETFROM:-0500
TZOFFSETTO:-0600
TZNAME:CST
RRULE:FREQ=YEARLY;BYMONTH=11;BYDAY=1SU
END:STANDARD
BEGIN:DAYLIGHT
DTSTART:16010101T020000
TZOFFSETFROM:-0600
TZOFFSETTO:-0500
TZNAME:CDT
RRULE:FREQ=YEARLY;BYMONTH=3;BYDAY=2SU
END:DAYLIGHT
END:VTIMEZONE
BEGIN:VEVENT
DTSTART;TZID="Central Standard Time":20200216T110000
DTEND;TZID="Central Standard Time":20200216T120000
UID:f1e348b7-7a22-40b5-a54a-550127298c30
CREATED:20260421T094556Z
DTSTAMP:20260421T094556Z
LAST-MODIFIED:20260421T094556Z
DESCRIPTION:GrowthTrack
CLASS:PUBLIC
LOCATION:
PRIORITY:5
SUMMARY:GrowthTrack
TRANSP:OPAQUE
SEQUENCE:0
ORGANIZER;CN="Joshua Fortney":MAILTO
STATUS:NEEDS ACTION
BEGIN:VALARM
DESCRIPTION:GrowthTrack
ACTION:DISPLAY
TRIGGER:-PT30M
END:VALARM
END:VEVENT
END:VCALENDAR