BEGIN:VCALENDAR
VERSION:2.0
PRODID:-//Advanced Intellect//aspNetEmail Calendar Writer(v4.0.0.57)//EN
METHOD:POST
BEGIN:VTIMEZONE
LAST-MODIFIED:20260420T063012Z
TZID:Central Standard Time
BEGIN:STANDARD
DTSTART:16010101T030000
TZOFFSETFROM:-0500
TZOFFSETTO:-0600
TZNAME:CST
RRULE:FREQ=YEARLY;BYMONTH=11;BYDAY=1SU
END:STANDARD
BEGIN:DAYLIGHT
DTSTART:16010101T020000
TZOFFSETFROM:-0600
TZOFFSETTO:-0500
TZNAME:CDT
RRULE:FREQ=YEARLY;BYMONTH=3;BYDAY=2SU
END:DAYLIGHT
END:VTIMEZONE
BEGIN:VEVENT
DTSTART;TZID="Central Standard Time":20220207T100000
DTEND;TZID="Central Standard Time":20220207T120000
UID:6e675dac-c96b-41b5-b4a9-5c96e0e0ac2c
CREATED:20260420T113012Z
DTSTAMP:20260420T113012Z
LAST-MODIFIED:20260420T113012Z
DESCRIPTION:
CLASS:PUBLIC
LOCATION:
PRIORITY:5
SUMMARY:Women's Connection & Bible Study Pt. 3: A Walk Through the
  OT:  Every Story Whispers His Name 
TRANSP:OPAQUE
SEQUENCE:0
ORGANIZER;CN="Tammy Dickey":MAILTO:tammy@springcreekchurch.org
STATUS:NEEDS ACTION
BEGIN:VALARM
DESCRIPTION:Women's Connection & Bible Study Pt. 3: A Walk Through
  the OT:  Every Story Whispers His Name 
ACTION:DISPLAY
TRIGGER:-PT30M
END:VALARM
END:VEVENT
END:VCALENDAR