BEGIN:VCALENDAR
VERSION:2.0
PRODID:-//Advanced Intellect//aspNetEmail Calendar Writer(v4.0.0.57)//EN
METHOD:POST
BEGIN:VTIMEZONE
LAST-MODIFIED:20260420T035605Z
TZID:Central Standard Time
BEGIN:STANDARD
DTSTART:16010101T030000
TZOFFSETFROM:-0500
TZOFFSETTO:-0600
TZNAME:CST
RRULE:FREQ=YEARLY;BYMONTH=11;BYDAY=1SU
END:STANDARD
BEGIN:DAYLIGHT
DTSTART:16010101T020000
TZOFFSETFROM:-0600
TZOFFSETTO:-0500
TZNAME:CDT
RRULE:FREQ=YEARLY;BYMONTH=3;BYDAY=2SU
END:DAYLIGHT
END:VTIMEZONE
BEGIN:VEVENT
DTSTART;TZID="Central Standard Time":20220815T190000
DTEND;TZID="Central Standard Time":20220815T200000
UID:e30bce7e-7e92-483a-8cd0-a9ab787827ef
CREATED:20260420T085605Z
DTSTAMP:20260420T085605Z
LAST-MODIFIED:20260420T085605Z
DESCRIPTION:Our men’s group is here to help you connect you to God
  and others and grow in your faith.  We hope to ignite the passion
  for the Great Commandment and the Great Commission in the heart
  of every man.  We welcome men of all ages!  \n\n
CLASS:PUBLIC
LOCATION:
PRIORITY:5
SUMMARY:Men's Connection & Discipleship 
TRANSP:OPAQUE
SEQUENCE:0
ORGANIZER;CN="Tammy Dickey":MAILTO:tammy@springcreekchurch.org
STATUS:NEEDS ACTION
BEGIN:VALARM
DESCRIPTION:Men's Connection & Discipleship 
ACTION:DISPLAY
TRIGGER:-PT30M
END:VALARM
END:VEVENT
END:VCALENDAR